Package: ASSIGN Version: 1.47.0 Command: /home/biocbuild/bbs-3.23-bioc/R/bin/R CMD INSTALL ASSIGN StartedAt: 2025-11-20 15:28:37 -0500 (Thu, 20 Nov 2025) EndedAt: 2025-11-20 15:28:40 -0500 (Thu, 20 Nov 2025) EllapsedTime: 3.2 seconds RetCode: 0 Status: OK