Package: ASSIGN Version: 1.45.0 Command: /Library/Frameworks/R.framework/Resources/bin/R CMD INSTALL ASSIGN StartedAt: 2025-10-08 15:29:47 -0400 (Wed, 08 Oct 2025) EndedAt: 2025-10-08 15:29:53 -0400 (Wed, 08 Oct 2025) EllapsedTime: 5.3 seconds RetCode: 0 Status: OK