Package: ASSIGN Version: 1.45.0 Command: /Library/Frameworks/R.framework/Resources/bin/R CMD build --keep-empty-dirs --no-resave-data ASSIGN StartedAt: 2025-10-08 16:06:01 -0400 (Wed, 08 Oct 2025) EndedAt: 2025-10-08 16:06:13 -0400 (Wed, 08 Oct 2025) EllapsedTime: 11.4 seconds RetCode: 0 Status: OK PackageFile: ASSIGN_1.45.0.tar.gz PackageFileSize: 1.621 MiB