Package: ASSIGN Version: 1.45.0 Command: /Library/Frameworks/R.framework/Resources/bin/R CMD INSTALL ASSIGN StartedAt: 2025-09-29 15:09:21 -0400 (Mon, 29 Sep 2025) EndedAt: 2025-09-29 15:09:22 -0400 (Mon, 29 Sep 2025) EllapsedTime: 1.2 seconds RetCode: 0 Status: OK