Package: ASSIGN Version: 1.45.0 Command: rm -rf ASSIGN.buildbin-libdir && mkdir ASSIGN.buildbin-libdir && /Users/biocbuild/BBS/utils/build-universal.sh ASSIGN_1.45.0.tar.gz /Library/Frameworks/R.framework/Resources/bin/R ASSIGN.buildbin-libdir StartedAt: 2025-09-29 22:27:08 -0400 (Mon, 29 Sep 2025) EndedAt: 2025-09-29 22:27:10 -0400 (Mon, 29 Sep 2025) EllapsedTime: 2.0 seconds RetCode: 0 Status: OK PackageFile: ASSIGN_1.45.0.tgz PackageFileSize: 1.671 MiB