Package: ASSET Version: 2.29.0 Command: /home/biocbuild/bbs-3.23-bioc/R/bin/R CMD INSTALL ASSET StartedAt: 2025-11-20 15:06:01 -0500 (Thu, 20 Nov 2025) EndedAt: 2025-11-20 15:06:35 -0500 (Thu, 20 Nov 2025) EllapsedTime: 33.2 seconds RetCode: 0 Status: OK