Package: ASSET Version: 2.29.0 Command: /home/biocbuild/bbs-3.23-bioc/R/bin/R CMD build --keep-empty-dirs --no-resave-data ASSET StartedAt: 2025-11-20 16:14:08 -0500 (Thu, 20 Nov 2025) EndedAt: 2025-11-20 16:14:23 -0500 (Thu, 20 Nov 2025) EllapsedTime: 15.0 seconds RetCode: 0 Status: OK PackageFile: ASSET_2.29.0.tar.gz PackageFileSize: 322.5 KiB