Package: ASSET Version: 2.27.0 Command: /Library/Frameworks/R.framework/Resources/bin/R CMD INSTALL ASSET StartedAt: 2025-10-27 15:06:57 -0400 (Mon, 27 Oct 2025) EndedAt: 2025-10-27 15:07:59 -0400 (Mon, 27 Oct 2025) EllapsedTime: 62.3 seconds RetCode: 0 Status: OK