Package: ASSET Version: 2.27.0 Command: rm -rf ASSET.buildbin-libdir && mkdir ASSET.buildbin-libdir && /Users/biocbuild/BBS/utils/build-universal.sh ASSET_2.27.0.tar.gz /Library/Frameworks/R.framework/Resources/bin/R ASSET.buildbin-libdir StartedAt: 2025-10-28 01:59:57 -0400 (Tue, 28 Oct 2025) EndedAt: 2025-10-28 02:00:10 -0400 (Tue, 28 Oct 2025) EllapsedTime: 12.8 seconds RetCode: 0 Status: OK PackageFile: ASSET_2.27.0.tgz PackageFileSize: 474.7 KiB