Package: ASSET Version: 2.27.0 Command: /Library/Frameworks/R.framework/Resources/bin/R CMD INSTALL ASSET StartedAt: 2025-10-10 15:06:00 -0400 (Fri, 10 Oct 2025) EndedAt: 2025-10-10 15:06:15 -0400 (Fri, 10 Oct 2025) EllapsedTime: 15.2 seconds RetCode: 0 Status: OK