Package: ASSET Version: 2.27.0 Command: /Library/Frameworks/R.framework/Resources/bin/R CMD build --keep-empty-dirs --no-resave-data ASSET StartedAt: 2025-10-10 15:40:50 -0400 (Fri, 10 Oct 2025) EndedAt: 2025-10-10 15:40:59 -0400 (Fri, 10 Oct 2025) EllapsedTime: 8.1 seconds RetCode: 0 Status: OK PackageFile: ASSET_2.27.0.tar.gz PackageFileSize: 322.1 KiB