Package: ASICS Version: 2.25.0 Command: rm -rf ASICS.buildbin-libdir && mkdir ASICS.buildbin-libdir && F:\biocbuild\bbs-3.22-bioc\R\bin\R.exe CMD INSTALL --build --library=ASICS.buildbin-libdir ASICS_2.25.0.tar.gz StartedAt: 2025-08-15 09:44:45 -0400 (Fri, 15 Aug 2025) EndedAt: 2025-08-15 09:46:00 -0400 (Fri, 15 Aug 2025) EllapsedTime: 75.2 seconds RetCode: 0 Status: OK PackageFile: ASICS_2.25.0.zip PackageFileSize: 4.136 MiB