Package: ASGSCA Version: 1.43.0 Command: /home/biocbuild/R/R/bin/R CMD INSTALL ASGSCA StartedAt: 2025-10-20 20:13:18 -0000 (Mon, 20 Oct 2025) EndedAt: 2025-10-20 20:13:41 -0000 (Mon, 20 Oct 2025) EllapsedTime: 22.4 seconds RetCode: 0 Status: OK