Package: ASGSCA Version: 1.43.0 Command: /home/biocbuild/R/R/bin/R CMD build --keep-empty-dirs --no-resave-data ASGSCA StartedAt: 2025-10-20 21:45:04 -0000 (Mon, 20 Oct 2025) EndedAt: 2025-10-20 21:48:56 -0000 (Mon, 20 Oct 2025) EllapsedTime: 232.1 seconds RetCode: 0 Status: OK PackageFile: ASGSCA_1.43.0.tar.gz PackageFileSize: 1.281 MiB