Package: ASEB Version: 1.53.0 Command: /home/biocbuild/R/R/bin/R CMD INSTALL ASEB StartedAt: 2025-10-16 21:08:27 -0000 (Thu, 16 Oct 2025) EndedAt: 2025-10-16 21:08:59 -0000 (Thu, 16 Oct 2025) EllapsedTime: 31.2 seconds RetCode: 0 Status: OK