Package: ASEB Version: 1.53.0 Command: /home/biocbuild/R/R/bin/R CMD build --keep-empty-dirs --no-resave-data ASEB StartedAt: 2025-10-16 23:02:22 -0000 (Thu, 16 Oct 2025) EndedAt: 2025-10-16 23:02:40 -0000 (Thu, 16 Oct 2025) EllapsedTime: 18.0 seconds RetCode: 0 Status: OK PackageFile: ASEB_1.53.0.tar.gz PackageFileSize: 594.3 KiB