Package: ASEB Version: 1.53.0 Command: /home/biocbuild/bbs-3.22-bioc/R/bin/R CMD check --install=check:ASEB.install-out.txt --library=/home/biocbuild/bbs-3.22-bioc/R/site-library --timings ASEB_1.53.0.tar.gz StartedAt: 2025-10-13 21:09:47 -0400 (Mon, 13 Oct 2025) EndedAt: 2025-10-13 21:10:13 -0400 (Mon, 13 Oct 2025) EllapsedTime: 26.0 seconds RetCode: 0 Status: WARNINGS CheckDir: ASEB.Rcheck Warnings: 1