Package: ASEB Version: 1.55.0 Command: /home/biocbuild/bbs-3.23-bioc/R/bin/R CMD INSTALL ASEB StartedAt: 2025-11-07 15:02:38 -0500 (Fri, 07 Nov 2025) EndedAt: 2025-11-07 15:02:50 -0500 (Fri, 07 Nov 2025) EllapsedTime: 12.5 seconds RetCode: 0 Status: OK