Package: ASEB Version: 1.55.0 Command: /home/biocbuild/bbs-3.23-bioc/R/bin/R CMD check --install=check:ASEB.install-out.txt --library=/home/biocbuild/bbs-3.23-bioc/R/site-library --timings ASEB_1.55.0.tar.gz StartedAt: 2025-11-21 21:05:48 -0500 (Fri, 21 Nov 2025) EndedAt: 2025-11-21 21:06:14 -0500 (Fri, 21 Nov 2025) EllapsedTime: 26.0 seconds RetCode: 0 Status: WARNINGS CheckDir: ASEB.Rcheck Warnings: 1