Package: ASEB Version: 1.55.0 Command: /home/biocbuild/bbs-3.23-bioc/R/bin/R CMD build --keep-empty-dirs --no-resave-data ASEB StartedAt: 2025-11-07 16:13:27 -0500 (Fri, 07 Nov 2025) EndedAt: 2025-11-07 16:13:41 -0500 (Fri, 07 Nov 2025) EllapsedTime: 14.0 seconds RetCode: 0 Status: OK PackageFile: ASEB_1.55.0.tar.gz PackageFileSize: 602.7 KiB