Package: ASAFE Version: 1.35.0 Command: /home/biocbuild/R/R/bin/R CMD build --keep-empty-dirs --no-resave-data ASAFE StartedAt: 2025-10-23 21:46:35 -0000 (Thu, 23 Oct 2025) EndedAt: 2025-10-23 21:46:42 -0000 (Thu, 23 Oct 2025) EllapsedTime: 7.0 seconds RetCode: 0 Status: OK PackageFile: ASAFE_1.35.0.tar.gz PackageFileSize: 394.3 KiB