Package: ARRmNormalization Version: 1.49.0 Command: /home/biocbuild/R/R/bin/R CMD INSTALL ARRmNormalization StartedAt: 2025-10-02 20:19:03 -0000 (Thu, 02 Oct 2025) EndedAt: 2025-10-02 20:19:33 -0000 (Thu, 02 Oct 2025) EllapsedTime: 30.3 seconds RetCode: 0 Status: OK