Package: ARRmNormalization Version: 1.49.0 Command: /home/biocbuild/R/R/bin/R CMD build --keep-empty-dirs --no-resave-data ARRmNormalization StartedAt: 2025-10-02 21:49:25 -0000 (Thu, 02 Oct 2025) EndedAt: 2025-10-02 21:49:52 -0000 (Thu, 02 Oct 2025) EllapsedTime: 27.0 seconds RetCode: 0 Status: OK PackageFile: ARRmNormalization_1.49.0.tar.gz PackageFileSize: 1.066 MiB