Package: ARRmNormalization Version: 1.49.0 Command: chmod a+r ARRmNormalization -R && F:\biocbuild\bbs-3.22-bioc\R\bin\R.exe CMD build --keep-empty-dirs --no-resave-data ARRmNormalization StartedAt: 2025-08-14 18:28:30 -0400 (Thu, 14 Aug 2025) EndedAt: 2025-08-14 18:29:16 -0400 (Thu, 14 Aug 2025) EllapsedTime: 46.5 seconds RetCode: 0 Status: OK PackageFile: ARRmNormalization_1.49.0.tar.gz PackageFileSize: 1007 KiB