Package: ARRmNormalization Version: 1.49.0 Command: rm -rf ARRmNormalization.buildbin-libdir && mkdir ARRmNormalization.buildbin-libdir && F:\biocbuild\bbs-3.22-bioc\R\bin\R.exe CMD INSTALL --build --library=ARRmNormalization.buildbin-libdir ARRmNormalization_1.49.0.tar.gz StartedAt: 2025-08-15 09:44:35 -0400 (Fri, 15 Aug 2025) EndedAt: 2025-08-15 09:44:56 -0400 (Fri, 15 Aug 2025) EllapsedTime: 20.2 seconds RetCode: 0 Status: OK PackageFile: ARRmNormalization_1.49.0.zip PackageFileSize: 1.024 MiB