Package: ARRmNormalization Version: 1.51.0 Command: /home/biocbuild/bbs-3.23-bioc/R/bin/R CMD INSTALL ARRmNormalization StartedAt: 2025-11-03 15:03:18 -0500 (Mon, 03 Nov 2025) EndedAt: 2025-11-03 15:03:37 -0500 (Mon, 03 Nov 2025) EllapsedTime: 19.0 seconds RetCode: 0 Status: OK