Package: ARRmNormalization Version: 1.51.0 Command: /home/biocbuild/bbs-3.23-bioc/R/bin/R CMD check --install=check:ARRmNormalization.install-out.txt --library=/home/biocbuild/bbs-3.23-bioc/R/site-library --timings ARRmNormalization_1.51.0.tar.gz StartedAt: 2025-11-02 20:54:54 -0500 (Sun, 02 Nov 2025) EndedAt: 2025-11-02 20:56:39 -0500 (Sun, 02 Nov 2025) EllapsedTime: 105.1 seconds RetCode: 0 Status: OK CheckDir: ARRmNormalization.Rcheck Warnings: 0