Package: ARRmNormalization Version: 1.51.0 Command: /home/biocbuild/bbs-3.23-bioc/R/bin/R CMD build --keep-empty-dirs --no-resave-data ARRmNormalization StartedAt: 2025-11-02 16:19:16 -0500 (Sun, 02 Nov 2025) EndedAt: 2025-11-02 16:19:43 -0500 (Sun, 02 Nov 2025) EllapsedTime: 27.0 seconds RetCode: 0 Status: OK PackageFile: ARRmNormalization_1.51.0.tar.gz PackageFileSize: 1.075 MiB