Package: APL Version: 1.13.0 Command: /home/biocbuild/R/R/bin/R CMD INSTALL APL StartedAt: 2025-10-13 21:32:22 -0000 (Mon, 13 Oct 2025) EndedAt: 2025-10-13 21:33:14 -0000 (Mon, 13 Oct 2025) EllapsedTime: 52.2 seconds RetCode: 0 Status: OK