Package: APL Version: 1.13.0 Command: /home/biocbuild/R/R/bin/R CMD build --keep-empty-dirs --no-resave-data APL StartedAt: 2025-10-13 22:05:41 -0000 (Mon, 13 Oct 2025) EndedAt: 2025-10-13 22:10:02 -0000 (Mon, 13 Oct 2025) EllapsedTime: 261.1 seconds RetCode: 0 Status: OK PackageFile: APL_1.13.0.tar.gz PackageFileSize: 1.218 MiB