Package: APL Version: 1.13.0 Command: /home/biocbuild/bbs-3.22-bioc/R/bin/R CMD check --install=check:APL.install-out.txt --library=/home/biocbuild/bbs-3.22-bioc/R/site-library --timings APL_1.13.0.tar.gz StartedAt: 2025-10-13 21:08:37 -0400 (Mon, 13 Oct 2025) EndedAt: 2025-10-13 21:16:51 -0400 (Mon, 13 Oct 2025) EllapsedTime: 494.1 seconds RetCode: 0 Status: OK CheckDir: APL.Rcheck Warnings: 0