Package: APL Version: 1.15.0 Command: /home/biocbuild/bbs-3.23-bioc/R/bin/R CMD INSTALL APL StartedAt: 2025-11-05 15:46:16 -0500 (Wed, 05 Nov 2025) EndedAt: 2025-11-05 15:46:56 -0500 (Wed, 05 Nov 2025) EllapsedTime: 40.0 seconds RetCode: 0 Status: OK