Package: APL Version: 1.15.0 Command: /home/biocbuild/bbs-3.23-bioc/R/bin/R CMD check --install=check:APL.install-out.txt --library=/home/biocbuild/bbs-3.23-bioc/R/site-library --timings APL_1.15.0.tar.gz StartedAt: 2025-11-25 21:04:39 -0500 (Tue, 25 Nov 2025) EndedAt: 2025-11-25 21:12:16 -0500 (Tue, 25 Nov 2025) EllapsedTime: 456.7 seconds RetCode: 0 Status: OK CheckDir: APL.Rcheck Warnings: 0