Package: APAlyzer Version: 1.23.0 Command: /Library/Frameworks/R.framework/Resources/bin/R CMD INSTALL APAlyzer StartedAt: 2025-10-12 15:37:18 -0400 (Sun, 12 Oct 2025) EndedAt: 2025-10-12 15:38:16 -0400 (Sun, 12 Oct 2025) EllapsedTime: 58.0 seconds RetCode: 0 Status: OK