Package: APAlyzer Version: 1.23.0 Command: /Library/Frameworks/R.framework/Resources/bin/R CMD build --keep-empty-dirs --no-resave-data APAlyzer StartedAt: 2025-10-12 16:01:04 -0400 (Sun, 12 Oct 2025) EndedAt: 2025-10-12 16:03:14 -0400 (Sun, 12 Oct 2025) EllapsedTime: 129.3 seconds RetCode: 0 Status: OK PackageFile: APAlyzer_1.23.0.tar.gz PackageFileSize: 3.959 MiB