Package: APAlyzer Version: 1.25.0 Maintainer: Ruijia Wang MaintainerEmail: rjwang.bioinfo at gmail.com git_url: https://git.bioconductor.org/packages/APAlyzer git_branch: devel git_last_commit: 5b343c9 git_last_commit_date: 2025-10-29 10:53:34 -0400 (Wed, 29 Oct 2025)