Package: ANF Version: 1.33.0 Command: /home/biocbuild/bbs-3.23-bioc/R/bin/R CMD INSTALL ANF StartedAt: 2025-11-21 15:12:31 -0500 (Fri, 21 Nov 2025) EndedAt: 2025-11-21 15:12:38 -0500 (Fri, 21 Nov 2025) EllapsedTime: 6.6 seconds RetCode: 0 Status: OK