Package: ANF Version: 1.33.0 Command: /home/biocbuild/bbs-3.23-bioc/R/bin/R CMD build --keep-empty-dirs --no-resave-data ANF StartedAt: 2025-11-21 16:10:58 -0500 (Fri, 21 Nov 2025) EndedAt: 2025-11-21 16:11:33 -0500 (Fri, 21 Nov 2025) EllapsedTime: 35.0 seconds RetCode: 0 Status: OK PackageFile: ANF_1.33.0.tar.gz PackageFileSize: 683 KiB