Package: ANF Version: 1.33.0 Command: /Library/Frameworks/R.framework/Resources/bin/R CMD INSTALL ANF StartedAt: 2025-11-21 15:18:46 -0500 (Fri, 21 Nov 2025) EndedAt: 2025-11-21 15:18:58 -0500 (Fri, 21 Nov 2025) EllapsedTime: 12.3 seconds RetCode: 0 Status: OK