Package: ANF Version: 1.33.0 Command: /Library/Frameworks/R.framework/Resources/bin/R CMD build --keep-empty-dirs --no-resave-data ANF StartedAt: 2025-11-21 16:03:56 -0500 (Fri, 21 Nov 2025) EndedAt: 2025-11-21 16:05:26 -0500 (Fri, 21 Nov 2025) EllapsedTime: 90.5 seconds RetCode: 0 Status: OK PackageFile: ANF_1.33.0.tar.gz PackageFileSize: 683 KiB