Package: ANCOMBC Version: 2.13.0 Command: /home/biocbuild/bbs-3.23-bioc/R/bin/R CMD INSTALL ANCOMBC StartedAt: 2025-11-21 15:08:20 -0500 (Fri, 21 Nov 2025) EndedAt: 2025-11-21 15:09:07 -0500 (Fri, 21 Nov 2025) EllapsedTime: 46.8 seconds RetCode: 0 Status: OK