Package: ANCOMBC Version: 2.13.0 Command: /Library/Frameworks/R.framework/Resources/bin/R CMD build --keep-empty-dirs --no-resave-data ANCOMBC StartedAt: 2025-11-21 16:03:54 -0500 (Fri, 21 Nov 2025) EndedAt: 2025-11-21 16:25:55 -0500 (Fri, 21 Nov 2025) EllapsedTime: 1320.9 seconds RetCode: 0 Status: OK PackageFile: ANCOMBC_2.13.0.tar.gz PackageFileSize: 1.307 MiB