Package: ANCOMBC Version: 2.12.0 Command: /Library/Frameworks/R.framework/Resources/bin/R CMD build --keep-empty-dirs --no-resave-data ANCOMBC StartedAt: 2025-10-29 21:59:15 -0400 (Wed, 29 Oct 2025) EndedAt: 2025-10-29 22:06:06 -0400 (Wed, 29 Oct 2025) EllapsedTime: 411.5 seconds RetCode: 0 Status: OK PackageFile: ANCOMBC_2.12.0.tar.gz PackageFileSize: 1.308 MiB