Package: AMOUNTAIN Version: 1.37.0 Command: /home/biocbuild/bbs-3.23-bioc/R/bin/R CMD INSTALL AMOUNTAIN StartedAt: 2025-11-20 15:11:00 -0500 (Thu, 20 Nov 2025) EndedAt: 2025-11-20 15:11:10 -0500 (Thu, 20 Nov 2025) EllapsedTime: 10.7 seconds RetCode: 0 Status: OK