Package: AMOUNTAIN Version: 1.37.0 Command: /home/biocbuild/bbs-3.23-bioc/R/bin/R CMD build --keep-empty-dirs --no-resave-data AMOUNTAIN StartedAt: 2025-11-20 16:10:17 -0500 (Thu, 20 Nov 2025) EndedAt: 2025-11-20 16:10:33 -0500 (Thu, 20 Nov 2025) EllapsedTime: 16.0 seconds RetCode: 0 Status: OK PackageFile: AMOUNTAIN_1.37.0.tar.gz PackageFileSize: 1.607 MiB