Package: AMOUNTAIN Version: 1.35.0 Command: /Library/Frameworks/R.framework/Resources/bin/R CMD INSTALL AMOUNTAIN StartedAt: 2025-10-08 15:12:33 -0400 (Wed, 08 Oct 2025) EndedAt: 2025-10-08 15:12:37 -0400 (Wed, 08 Oct 2025) EllapsedTime: 3.9 seconds RetCode: 0 Status: OK