Package: AMOUNTAIN Version: 1.35.0 Command: /Library/Frameworks/R.framework/Resources/bin/R CMD build --keep-empty-dirs --no-resave-data AMOUNTAIN StartedAt: 2025-10-08 15:42:44 -0400 (Wed, 08 Oct 2025) EndedAt: 2025-10-08 15:42:51 -0400 (Wed, 08 Oct 2025) EllapsedTime: 7.1 seconds RetCode: 0 Status: OK PackageFile: AMOUNTAIN_1.35.0.tar.gz PackageFileSize: 1.75 MiB