Package: AMOUNTAIN Version: 1.35.0 Command: rm -rf AMOUNTAIN.buildbin-libdir && mkdir AMOUNTAIN.buildbin-libdir && /Users/biocbuild/BBS/utils/build-universal.sh AMOUNTAIN_1.35.0.tar.gz /Library/Frameworks/R.framework/Resources/bin/R AMOUNTAIN.buildbin-libdir StartedAt: 2025-10-08 22:38:39 -0400 (Wed, 08 Oct 2025) EndedAt: 2025-10-08 22:38:42 -0400 (Wed, 08 Oct 2025) EllapsedTime: 2.1 seconds RetCode: 0 Status: OK PackageFile: AMOUNTAIN_1.35.0.tgz PackageFileSize: 1.789 MiB