Package: AMARETTO Version: 1.25.0 Command: /home/biocbuild/bbs-3.22-bioc/R/bin/R CMD INSTALL AMARETTO StartedAt: 2025-10-14 15:54:29 -0400 (Tue, 14 Oct 2025) EndedAt: 2025-10-14 15:55:04 -0400 (Tue, 14 Oct 2025) EllapsedTime: 35.0 seconds RetCode: 0 Status: OK