Package: AMARETTO Version: 1.25.0 Command: /home/biocbuild/bbs-3.22-bioc/R/bin/R CMD build --keep-empty-dirs --no-resave-data --md5 AMARETTO StartedAt: 2025-10-14 16:10:33 -0400 (Tue, 14 Oct 2025) EndedAt: 2025-10-14 16:11:28 -0400 (Tue, 14 Oct 2025) EllapsedTime: 55.1 seconds RetCode: 0 Status: OK PackageFile: AMARETTO_1.25.0.tar.gz PackageFileSize: 3.259 MiB